BEGIN:VCALENDAR
VERSION:2.0
PRODID:http://pfarrei-reichenbach.de
BEGIN:VEVENT
UID:26fde064-3bce-11f1-a8bf-0242ac11002b-1779030000000-de
DTSTAMP:20260419T090002Z
DTSTART:20260517T150000Z
DTEND:20260517T160000Z
SUMMARY;LANGUAGE=de:Eucharistiefeier in der außerordentlichen Form
END:VEVENT
END:VCALENDAR
