BEGIN:VCALENDAR
VERSION:2.0
PRODID:http://pfarrei-reichenbach.de
BEGIN:VEVENT
UID:3951586b-3bce-11f1-a8bf-0242ac11002b-1779003900000-de
DTSTAMP:20260419T090033Z
DTSTART:20260517T074500Z
DTEND:20260517T080000Z
SUMMARY;LANGUAGE=de:Treffen der Jubilare vor dem Pfarrheim - Prozession zur Pfarrkirche
END:VEVENT
END:VCALENDAR
