BEGIN:VCALENDAR
VERSION:2.0
PRODID:http://pfarrei-reichenbach.de
BEGIN:VEVENT
UID:3ac5821a-3bce-11f1-a8bf-0242ac11002b-1779021000000-de
DTSTAMP:20260419T090036Z
DTSTART:20260517T123000Z
DTEND:20260517T133000Z
SUMMARY;LANGUAGE=de:KAB Maiandacht; Feierliche Maiandacht mit der Stubenmusik "Markt Pressig";
DESCRIPTION;LANGUAGE=de:anschließend gemütliches Beisammensein im Pfarrheim
END:VEVENT
END:VCALENDAR
