BEGIN:VCALENDAR
VERSION:2.0
PRODID:http://pfarrei-reichenbach.de
BEGIN:VEVENT
UID:6710ebe0-37e0-11f1-a8bf-0242ac11002b-1778603400000-de
DTSTAMP:20260414T090036Z
DTSTART:20260512T163000Z
DTEND:20260512T173000Z
SUMMARY;LANGUAGE=de:Bittgang nach Hemmersheim anschl. Eucharistiefeier
END:VEVENT
END:VCALENDAR
