BEGIN:VCALENDAR
VERSION:2.0
PRODID:http://pfarrei-reichenbach.de
BEGIN:VEVENT
UID:b00165d6-3004-11f1-a8bf-0242ac11002b-1777732200000-de
DTSTAMP:20260404T090011Z
DTSTART:20260502T143000Z
DTEND:20260502T151500Z
SUMMARY;LANGUAGE=de:Aussetzung d. Allerheiligsten / Beichtgelegenheit
END:VEVENT
END:VCALENDAR
