BEGIN:VCALENDAR
VERSION:2.0
PRODID:http://pfarrei-reichenbach.de
BEGIN:VEVENT
UID:b188cd93-3e29-11f1-a8bf-0242ac11002b-1779292800000-de
DTSTAMP:20260422T090021Z
DTSTART:20260520T160000Z
DTEND:20260520T170000Z
SUMMARY;LANGUAGE=de:Marienweg zur Maiandacht am Käppela (Beginn am Marktplatz)
END:VEVENT
END:VCALENDAR
