BEGIN:VCALENDAR
VERSION:2.0
PRODID:http://pfarrei-reichenbach.de
BEGIN:VEVENT
UID:c853865a-36ba-11f1-a8bf-0242ac11002b-1777028431905-de
DTSTAMP:20260412T215847Z
DTSTART:20260424T110031Z
SUMMARY;LANGUAGE=de:Buswallfahrt des Seelsorgebereiches nach Eichstätt
END:VEVENT
END:VCALENDAR
